BEGIN:VCALENDAR
VERSION:2.0
PRODID:-//Savoring Travels - ECPv6.15.1.1//NONSGML v1.0//EN
CALSCALE:GREGORIAN
METHOD:PUBLISH
X-WR-CALNAME:Savoring Travels
X-ORIGINAL-URL:https://savoringtravels.com
X-WR-CALDESC:Events for Savoring Travels
REFRESH-INTERVAL;VALUE=DURATION:PT1H
X-Robots-Tag:noindex
X-PUBLISHED-TTL:PT1H
BEGIN:VTIMEZONE
TZID:America/New_York
BEGIN:DAYLIGHT
TZOFFSETFROM:-0500
TZOFFSETTO:-0400
TZNAME:EDT
DTSTART:20180311T070000
END:DAYLIGHT
BEGIN:STANDARD
TZOFFSETFROM:-0400
TZOFFSETTO:-0500
TZNAME:EST
DTSTART:20181104T060000
END:STANDARD
END:VTIMEZONE
BEGIN:VEVENT
DTSTART;TZID=America/New_York:20180522T150000
DTEND;TZID=America/New_York:20180522T163000
DTSTAMP:20260423T145114
CREATED:20180426T005528Z
LAST-MODIFIED:20180426T005528Z
UID:103-1527001200-1527006600@savoringtravels.com
SUMMARY:Flying from Birmingham to Dublin
DESCRIPTION:We will be flying from Birmingham\, UK to Dublin\, Ireland for the last part of our trip. \nShare this:FacebookTwitterPinterestLinkedInEmailLike this:Like Loading...
URL:https://savoringtravels.com/event/flying-from-birmingham-to-dublin/
CATEGORIES:Travel
END:VEVENT
BEGIN:VEVENT
DTSTART;TZID=America/New_York:20180519T123000
DTEND;TZID=America/New_York:20180522T150000
DTSTAMP:20260423T145114
CREATED:20180426T005252Z
LAST-MODIFIED:20180426T005704Z
UID:101-1526733000-1527001200@savoringtravels.com
SUMMARY:Staying with Family in The Black Country!
DESCRIPTION:We will be staying with cousins for a few days and visiting sites in and around our ancestral home! \nShare this:FacebookTwitterPinterestLinkedInEmailLike this:Like Loading...
URL:https://savoringtravels.com/event/staying-with-family-in-the-black-country/
CATEGORIES:Sightseeing
END:VEVENT
BEGIN:VEVENT
DTSTART;TZID=America/New_York:20180519T100000
DTEND;TZID=America/New_York:20180519T123000
DTSTAMP:20260423T145114
CREATED:20180426T005147Z
LAST-MODIFIED:20180426T005147Z
UID:99-1526724000-1526733000@savoringtravels.com
SUMMARY:Train from London to Dudley to Visit Family
DESCRIPTION:We will be leaving London to go to the West Midlands to visit our Taylor side cousins. My paternal grandmother was born in Dudley\, and most of that side of the family still lives in the area! \nShare this:FacebookTwitterPinterestLinkedInEmailLike this:Like Loading...
URL:https://savoringtravels.com/event/train-from-london-to-dudley-to-visit-family/
CATEGORIES:Travel
END:VEVENT
BEGIN:VEVENT
DTSTART;TZID=America/New_York:20180514T133000
DTEND;TZID=America/New_York:20180519T100000
DTSTAMP:20260423T145114
CREATED:20180426T004541Z
LAST-MODIFIED:20180426T004541Z
UID:96-1526304600-1526724000@savoringtravels.com
SUMMARY:Our Stay in London
DESCRIPTION:We will be staying at the Double tree\, Tower of London! We will be in the UK on the day of Prince Harry’s wedding! \nShare this:FacebookTwitterPinterestLinkedInEmailLike this:Like Loading...
URL:https://savoringtravels.com/event/our-stay-in-london/
LOCATION:Doubletree Tower of London\, 7 Pepys Street\, London\, United Kingdom
CATEGORIES:Sightseeing
END:VEVENT
BEGIN:VEVENT
DTSTART;TZID=America/New_York:20180514T110000
DTEND;TZID=America/New_York:20180514T133000
DTSTAMP:20260423T145114
CREATED:20180426T004112Z
LAST-MODIFIED:20180426T004119Z
UID:94-1526295600-1526304600@savoringtravels.com
SUMMARY:Travel from Paris to London via Train
DESCRIPTION:We will be taking the high speed train from Paris to London! \nShare this:FacebookTwitterPinterestLinkedInEmailLike this:Like Loading...
URL:https://savoringtravels.com/event/travel-from-paris-to-london-via-train/
CATEGORIES:Travel
END:VEVENT
BEGIN:VEVENT
DTSTART;TZID=America/New_York:20180510T060000
DTEND;TZID=America/New_York:20180514T120000
DTSTAMP:20260423T145114
CREATED:20180426T003716Z
LAST-MODIFIED:20180426T003727Z
UID:91-1525932000-1526299200@savoringtravels.com
SUMMARY:Our Stay in Paris
DESCRIPTION:We will be staying at the Duminy Vendome\, not far from the Louvre! \nShare this:FacebookTwitterPinterestLinkedInEmailLike this:Like Loading...
URL:https://savoringtravels.com/event/our-stay-in-paris/
LOCATION:Duminy Vendome\, 3-5 Rue Du Mont Thabor\, Paris\, F-75001\, France
CATEGORIES:Sightseeing
END:VEVENT
BEGIN:VEVENT
DTSTART;TZID=America/New_York:20180509T120000
DTEND;TZID=America/New_York:20180510T120000
DTSTAMP:20260423T145114
CREATED:20180426T002811Z
LAST-MODIFIED:20180426T002811Z
UID:89-1525867200-1525953600@savoringtravels.com
SUMMARY:Traveling to Paris
DESCRIPTION:We will be flying to Paris on 5/9\, arriving there early on 5/10 Paris-time! \nShare this:FacebookTwitterPinterestLinkedInEmailLike this:Like Loading...
URL:https://savoringtravels.com/event/traveling-to-paris/
CATEGORIES:Travel
END:VEVENT
END:VCALENDAR